BEGIN:VCALENDAR
VERSION:2.0
PRODID:-//Institute of Biomedical Engineering (BME) - ECPv6.15.20//NONSGML v1.0//EN
CALSCALE:GREGORIAN
METHOD:PUBLISH
X-ORIGINAL-URL:https://bme.utoronto.ca
X-WR-CALDESC:Events for Institute of Biomedical Engineering (BME)
REFRESH-INTERVAL;VALUE=DURATION:PT1H
X-Robots-Tag:noindex
X-PUBLISHED-TTL:PT1H
BEGIN:VTIMEZONE
TZID:America/Toronto
BEGIN:DAYLIGHT
TZOFFSETFROM:-0500
TZOFFSETTO:-0400
TZNAME:EDT
DTSTART:20220313T070000
END:DAYLIGHT
BEGIN:STANDARD
TZOFFSETFROM:-0400
TZOFFSETTO:-0500
TZNAME:EST
DTSTART:20221106T060000
END:STANDARD
BEGIN:DAYLIGHT
TZOFFSETFROM:-0500
TZOFFSETTO:-0400
TZNAME:EDT
DTSTART:20230312T070000
END:DAYLIGHT
BEGIN:STANDARD
TZOFFSETFROM:-0400
TZOFFSETTO:-0500
TZNAME:EST
DTSTART:20231105T060000
END:STANDARD
BEGIN:DAYLIGHT
TZOFFSETFROM:-0500
TZOFFSETTO:-0400
TZNAME:EDT
DTSTART:20240310T070000
END:DAYLIGHT
BEGIN:STANDARD
TZOFFSETFROM:-0400
TZOFFSETTO:-0500
TZNAME:EST
DTSTART:20241103T060000
END:STANDARD
END:VTIMEZONE
BEGIN:VEVENT
DTSTART;TZID=America/Toronto:20230620T110000
DTEND;TZID=America/Toronto:20230620T120000
DTSTAMP:20260421T183325
CREATED:20230607T141938Z
LAST-MODIFIED:20230607T141938Z
UID:41736-1687258800-1687262400@bme.utoronto.ca
SUMMARY:The Journey from Concept to Commercial
DESCRIPTION:  \nPlease join us for an ECHO webinar featuring Garrett Schwab\, who will provide an overview of his vast experience developing and commercializing novel therapeutic medical technologies. \nXII Medical is a privately held medical technology company developing a novel neurostimulation system designed to improve patient experience and outcomes for the millions suffering from Obstructive Sleep Apnea. \nGuest Speaker\nGarrett Schwab\, BA\, MBA \nPresident and CEO\, XII Medical \nRegister in advance for this webinar. After registering\, you will receive a confirmation email containing information about joining the webinar.\nECHO is an entrepreneurship training program\, funded and organized in a partnership between (i) the Translational Biology and Engineering Program (TBEP)\, the University of Toronto component of the Ted Rogers Centre for Heart Research\, and (ii) the Health Innovation Hub (H2i). For more information\, visit: https://tedrogersresearch.ca/echo/
URL:https://bme.utoronto.ca/event/the-journey-from-concept-to-commercial/
CATEGORIES:Events & Workshops
ORGANIZER;CN="Translational Biology and Engineering Program (TBEP)":MAILTO:reception.tbep@utoronto.ca
END:VEVENT
END:VCALENDAR