BEGIN:VCALENDAR
VERSION:2.0
PRODID:-//Institute of Biomedical Engineering (BME) - ECPv6.15.20//NONSGML v1.0//EN
CALSCALE:GREGORIAN
METHOD:PUBLISH
X-WR-CALNAME:Institute of Biomedical Engineering (BME)
X-ORIGINAL-URL:https://bme.utoronto.ca
X-WR-CALDESC:Events for Institute of Biomedical Engineering (BME)
REFRESH-INTERVAL;VALUE=DURATION:PT1H
X-Robots-Tag:noindex
X-PUBLISHED-TTL:PT1H
BEGIN:VTIMEZONE
TZID:America/Toronto
BEGIN:DAYLIGHT
TZOFFSETFROM:-0500
TZOFFSETTO:-0400
TZNAME:EDT
DTSTART:20220313T070000
END:DAYLIGHT
BEGIN:STANDARD
TZOFFSETFROM:-0400
TZOFFSETTO:-0500
TZNAME:EST
DTSTART:20221106T060000
END:STANDARD
BEGIN:DAYLIGHT
TZOFFSETFROM:-0500
TZOFFSETTO:-0400
TZNAME:EDT
DTSTART:20230312T070000
END:DAYLIGHT
BEGIN:STANDARD
TZOFFSETFROM:-0400
TZOFFSETTO:-0500
TZNAME:EST
DTSTART:20231105T060000
END:STANDARD
BEGIN:DAYLIGHT
TZOFFSETFROM:-0500
TZOFFSETTO:-0400
TZNAME:EDT
DTSTART:20240310T070000
END:DAYLIGHT
BEGIN:STANDARD
TZOFFSETFROM:-0400
TZOFFSETTO:-0500
TZNAME:EST
DTSTART:20241103T060000
END:STANDARD
END:VTIMEZONE
BEGIN:VEVENT
DTSTART;TZID=America/Toronto:20231212T130000
DTEND;TZID=America/Toronto:20231212T160000
DTSTAMP:20260420T015214
CREATED:20231117T175056Z
LAST-MODIFIED:20231117T175056Z
UID:42925-1702386000-1702396800@bme.utoronto.ca
SUMMARY:BME Holiday Cocktail Party 2023
DESCRIPTION:Institute of Biomedical Engineering (BME) is proud to host this year’s Institute-wide holiday celebration! Get out of your labs and offices\, socialize\, get to know one another\, and help build our community. \nDate and Time:  December 12\, 2023\, 1:00-4:00 pm\nVenue:  Great Hall\, Hart House
URL:https://bme.utoronto.ca/event/bme-holiday-cocktail-party-2023/
LOCATION:Great Hall\, Hart House\, 7 Hart House Cir\, Toronto\, Ontario\, M5S 3H3\, Canada
CATEGORIES:Events & Workshops
END:VEVENT
END:VCALENDAR