BEGIN:VCALENDAR
VERSION:2.0
PRODID:-//Institute of Biomedical Engineering (BME) - ECPv6.15.20//NONSGML v1.0//EN
CALSCALE:GREGORIAN
METHOD:PUBLISH
X-ORIGINAL-URL:https://bme.utoronto.ca
X-WR-CALDESC:Events for Institute of Biomedical Engineering (BME)
REFRESH-INTERVAL;VALUE=DURATION:PT1H
X-Robots-Tag:noindex
X-PUBLISHED-TTL:PT1H
BEGIN:VTIMEZONE
TZID:America/Toronto
BEGIN:DAYLIGHT
TZOFFSETFROM:-0500
TZOFFSETTO:-0400
TZNAME:EDT
DTSTART:20220313T070000
END:DAYLIGHT
BEGIN:STANDARD
TZOFFSETFROM:-0400
TZOFFSETTO:-0500
TZNAME:EST
DTSTART:20221106T060000
END:STANDARD
BEGIN:DAYLIGHT
TZOFFSETFROM:-0500
TZOFFSETTO:-0400
TZNAME:EDT
DTSTART:20230312T070000
END:DAYLIGHT
BEGIN:STANDARD
TZOFFSETFROM:-0400
TZOFFSETTO:-0500
TZNAME:EST
DTSTART:20231105T060000
END:STANDARD
BEGIN:DAYLIGHT
TZOFFSETFROM:-0500
TZOFFSETTO:-0400
TZNAME:EDT
DTSTART:20240310T070000
END:DAYLIGHT
BEGIN:STANDARD
TZOFFSETFROM:-0400
TZOFFSETTO:-0500
TZNAME:EST
DTSTART:20241103T060000
END:STANDARD
END:VTIMEZONE
BEGIN:VEVENT
DTSTART;TZID=America/Toronto:20230127T060000
DTEND;TZID=America/Toronto:20230127T070000
DTSTAMP:20260421T200955
CREATED:20230109T190055Z
LAST-MODIFIED:20230109T190345Z
UID:39673-1674799200-1674802800@bme.utoronto.ca
SUMMARY:Data-Driven Approaches to Studying Neighborhoods and Health Inequalities – Prof. Dustin Duncan
DESCRIPTION:Join us for the Inequity Speaker Series with Associate Professor Dustin Duncan\, from the Department of Epidemiology and Co-Director of the Social and Spatial Epidemiology Unit\, Columbia University. \nREGISTER HERE.  \nDate: January 27\, 2023 \nTime: 11 am – 12 pm \nFormat: Hybrid (in-person & virtual) \nTalk Title: Data-Driven Approaches to Studying Neighborhoods and Health Inequalities \nAbstract: The field of neighborhoods and health (sometimes referred to as spatial epidemiology) has grown exponentially in the last twenty years\, especially since the publication of the first edition of Neighborhoods and Health edited by Ichiro Kawachi and Lisa Berkman in 2003. There is a large literature on the influence of neighborhoods on health to date. Indeed\, many reviews and technical reports of accumulated neighborhoods and health research have been conducted. This talk will provide an overview on the range of established and emerging quantitative methods used in neighborhoods and health research\, including emerging methodological approaches deriving measures of neighborhood environments from postings on social media platforms and crowd-sourced web-based data. These data-driven approach to studying neighborhoods and health will be applied to health inequalities research.   Speaker Profile: Dustin T. Duncan\, ScD is an Associate Professor in the Department of Epidemiology at Columbia University Mailman School of Public Health\, where he directs Columbia’s Spatial Epidemiology Lab and co-directs the department’s Social and Spatial Epidemiology Unit. Dr. Duncan is an internationally recognized Social and Spatial Epidemiologist. His research broadly seeks to understand how social and contextual factors especially neighborhood characteristics influence population health. Dr. Duncan’s intersectional research focuses on Black cisgender gay\, bisexual and other sexual minority men and transgender women of color. His work appears in leading public health\, epidemiology\, medical\, geography\, criminology\, demography\, and psychology journals. Working in collaborations with scholars across the world\, he has over 200 high-impact articles\, book chapters and books (>100 first or senior-authored)\, and his research has appeared in major media outlets including U.S. News & World Report\, The Washington Post\, The New York Times and CNN. Dr. Duncan’s recent work has been funded by the National Institutes of Health\, the Centers for Disease Control and Prevention\, the HIV Prevention Trials Network\, the Robert Wood Johnson Foundation\, the Verizon Foundation\, and the Aetna Foundation. He has received several early career and distinguished scientific contribution\, mentoring and leadership awards including from the National Academy of Medicine (NAM)\, the Harvard University T.H. Chan School of Public Health (HSPH) and the Interdisciplinary Association for Population Health Science (IAPHS).
URL:https://bme.utoronto.ca/event/data-driven-approaches-to-studying-neighborhoods-and-health-inequalities-prof-dustin-duncan/
LOCATION:700 University Avenue\, Room 17020
CATEGORIES:External Speaker Series
ATTACH;FMTTYPE=image/png:https://bme.utoronto.ca/wp-content/uploads/2023/01/Untitled-design-12-E5OH4B.tmp_.png
END:VEVENT
BEGIN:VEVENT
DTSTART;TZID=America/Toronto:20230127T110000
DTEND;TZID=America/Toronto:20230127T120000
DTSTAMP:20260421T200955
CREATED:20230112T144336Z
LAST-MODIFIED:20230112T144336Z
UID:39713-1674817200-1674820800@bme.utoronto.ca
SUMMARY:Modeling in Medicine: Case Studies in Cancer and COVID-19
DESCRIPTION:
URL:https://bme.utoronto.ca/event/modeling-in-medicine-case-studies-in-cancer-and-covid-19/
CATEGORIES:External Speaker Series
END:VEVENT
END:VCALENDAR