BEGIN:VCALENDAR
VERSION:2.0
PRODID:-//Institute of Biomedical Engineering (BME) - ECPv6.15.20//NONSGML v1.0//EN
CALSCALE:GREGORIAN
METHOD:PUBLISH
X-ORIGINAL-URL:https://bme.utoronto.ca
X-WR-CALDESC:Events for Institute of Biomedical Engineering (BME)
REFRESH-INTERVAL;VALUE=DURATION:PT1H
X-Robots-Tag:noindex
X-PUBLISHED-TTL:PT1H
BEGIN:VTIMEZONE
TZID:America/Toronto
BEGIN:DAYLIGHT
TZOFFSETFROM:-0500
TZOFFSETTO:-0400
TZNAME:EDT
DTSTART:20220313T070000
END:DAYLIGHT
BEGIN:STANDARD
TZOFFSETFROM:-0400
TZOFFSETTO:-0500
TZNAME:EST
DTSTART:20221106T060000
END:STANDARD
BEGIN:DAYLIGHT
TZOFFSETFROM:-0500
TZOFFSETTO:-0400
TZNAME:EDT
DTSTART:20230312T070000
END:DAYLIGHT
BEGIN:STANDARD
TZOFFSETFROM:-0400
TZOFFSETTO:-0500
TZNAME:EST
DTSTART:20231105T060000
END:STANDARD
BEGIN:DAYLIGHT
TZOFFSETFROM:-0500
TZOFFSETTO:-0400
TZNAME:EDT
DTSTART:20240310T070000
END:DAYLIGHT
BEGIN:STANDARD
TZOFFSETFROM:-0400
TZOFFSETTO:-0500
TZNAME:EST
DTSTART:20241103T060000
END:STANDARD
END:VTIMEZONE
BEGIN:VEVENT
DTSTART;TZID=America/Toronto:20231102T121000
DTEND;TZID=America/Toronto:20231102T122500
DTSTAMP:20260419T164905
CREATED:20230830T212256Z
LAST-MODIFIED:20231101T173731Z
UID:42358-1698927000-1698927900@bme.utoronto.ca
SUMMARY:Graduate Student Seminar Series - Davood Dadkhah
DESCRIPTION:Graduate Student Seminar Series\nPlease ensure you invite your Principal Investigator by adding their email via the ‘Add Guest’ button and they will also be notified of your presentation.\nLocation: WB116\nPresentation Title: Wearable Footwear Slip Detection Systems for Icy Surfaces\nSupervisor Name: Dr. Tilak Dutta\nYear of Study: 4\nProgram of Study: PhD\nPowered by Calendly.com
URL:https://bme.utoronto.ca/event/graduate-student-seminar-series-davood-dadkhah-2/
LOCATION:WB116
CATEGORIES:Graduate Seminar Series
END:VEVENT
BEGIN:VEVENT
DTSTART;TZID=America/Toronto:20231102T122500
DTEND;TZID=America/Toronto:20231102T124000
DTSTAMP:20260419T164905
CREATED:20230909T215241Z
LAST-MODIFIED:20231101T173731Z
UID:42456-1698927900-1698928800@bme.utoronto.ca
SUMMARY:Graduate Student Seminar Series - Calvin Ngan
DESCRIPTION:Graduate Student Seminar Series\nPlease ensure you invite your Principal Investigator by adding their email via the ‘Add Guest’ button and they will also be notified of your presentation.\nLocation: WB116\nPresentation Title: Towards Developing a Full Digital Workflow for Transradial (Below-Elbow) Socket Design\nSupervisor Name: Jan Andrysek\nYear of Study: 5\nProgram of Study: PhD\nPowered by Calendly.com
URL:https://bme.utoronto.ca/event/graduate-student-seminar-series-calvin-ngan/
LOCATION:WB116
CATEGORIES:Graduate Seminar Series
END:VEVENT
BEGIN:VEVENT
DTSTART;TZID=America/Toronto:20231102T124000
DTEND;TZID=America/Toronto:20231102T125500
DTSTAMP:20260419T164905
CREATED:20230908T215229Z
LAST-MODIFIED:20231101T173731Z
UID:42449-1698928800-1698929700@bme.utoronto.ca
SUMMARY:Graduate Student Seminar Series - Patrick Dong Min Chang
DESCRIPTION:Graduate Student Seminar Series\nPlease ensure you invite your Principal Investigator by adding their email via the ‘Add Guest’ button and they will also be notified of your presentation.\nLocation: WB116\nPresentation Title: Ultrasound-triggered docetaxel-loaded nanobubbles for cancer therapy\nSupervisor Name: Naomi Matsuura\nYear of Study: 4\nProgram of Study: PhD\nPowered by Calendly.com
URL:https://bme.utoronto.ca/event/graduate-student-seminar-series-patrick-dong-min-chang/
LOCATION:WB116
CATEGORIES:Graduate Seminar Series
END:VEVENT
BEGIN:VEVENT
DTSTART;TZID=America/Toronto:20231102T130000
DTEND;TZID=America/Toronto:20231102T140000
DTSTAMP:20260419T164905
CREATED:20231026T175659Z
LAST-MODIFIED:20231026T175659Z
UID:42800-1698930000-1698933600@bme.utoronto.ca
SUMMARY:Using Patient Derived Induced Pluripotent Stem Cells to Model and Treat Inherited Retinal Disease
DESCRIPTION:Dr. Budd A. Tucker\, PhD University of Iowa \nAbstract: Inherited retinal degenerative disorders\, ranging from relatively common conditions such as Stargardt disease to rare forms of retinitis pigmentosa\, are extraordinarily genetically heterogeneous. To date more than 100 different genes and thousands of different disease-causing mutations have been identified. The unifying feature of these conditions is the ultimate death of the light sensing photoreceptor cells of the outer neural retina. As the retina has little intrinsic regenerative capacity\, photoreceptor cell death results in irreversible vision loss. Fortunately\, scientific progress in the fields of molecular genetics\, genome editing\, stem cell biology and tissue engineering have given us reason to be optimistic for the future of patients who receive an inherited retinal degeneration diagnosis. In this talk I will discuss work from our group focused on the use of patient derived induced pluripotent stem cells to molecularly diagnosis\, study and treat patients with inherited retinal degeneration. Specifically\, I will provide examples of how we are using patient iPSCs to evaluate the pathogenicity of novel genetic variations and develop a restorative autologous photoreceptor cell replacement approach. \nBiography: I was born and raised in a small fishing town on the west coast of Newfoundland’s Great Northern Peninsula\, in northeast Canada. My formative years were spent on my father’s commercial fishing boats\, where during the summer we fished the waters of the North Atlantic for Cod\, Shrimp\, Ocean Perch\, and Greenland Halibut. In the fall of 1996\, I attended Sir Wilfred Grenfell College\, where I became the first person in my nuclear family to obtain a college degree. At the age of 23\, I left commercial fishing behind and attended graduate school full time. In 2006\, I obtained my Ph.D. degree in neuroscience under the mentorship of Dr. \nKaren M. Mearow at Memorial University of Newfoundland\, School of Medicine. I subsequently moved to Boston to complete post-doctoral training under the mentorship of Dr. Michael J. Young at the Schepens Eye Research Institute\, Harvard Medical School\, where in 2009\, I was promoted to the rank of faculty. \nIn 2010\, I joined the Institute for Vision Research and the Department of Ophthalmology and Visual Science at the University of Iowa\, where I am currently a full professor and hold the Ruby Endowed Chair of Regenerative Ophthalmology. I direct both the Ruby Retinal Engineering Laboratory\, which is focused on development of novel tissue engineering and robotic strategies for production of autologous photoreceptor cell grafts\, and the Dezii Translational Vision Research Facility\, a cGMP manufacturing suite with ISO class 5 capabilities dedicated to production of gene and cell-based therapeutics. The major focus of my laboratory is to combine state-of-the-art patient-specific induced pluripotent stem cell\, CRISPR based genome editing and tissue engineering technologies to develop affordable gene and autologous photoreceptor cell replacement strategies for the treatment of patients with inherited retinal degenerative blindness. \nHosted by Dr. Molly Shoichet \nSnacks and refreshments will be served
URL:https://bme.utoronto.ca/event/using-patient-derived-induced-pluripotent-stem-cells-to-model-and-treat-inherited-retinal-disease/
LOCATION:Donnelly Centre for Cellular and Biomolecular Research\, Red Room\, 160 College Street\, Toronto\, Ontario\, M5S 3E1\, Canada
CATEGORIES:External Speaker Series
ORGANIZER;CN="Molly Shoichet":MAILTO:adminshoichet@utoronto.ca
END:VEVENT
BEGIN:VEVENT
DTSTART;TZID=America/Toronto:20231108T120000
DTEND;TZID=America/Toronto:20231108T130000
DTSTAMP:20260419T164905
CREATED:20231019T134359Z
LAST-MODIFIED:20231019T134359Z
UID:42750-1699444800-1699448400@bme.utoronto.ca
SUMMARY:Skule Lunch & Learn – “Artificial Tissues for Personalized Medicine: A Powerful Tool for Healthcare and Drug Development”
DESCRIPTION:On November 8th\, 2023\, join us for an exclusive Skule™ Lunch & Learn featuring 2023 EAN Award Winner\, Professor Alison McGuigan. \nAging populations and chronic diseases are posing unprecedented challenges to healthcare systems. McGuigan’s groundbreaking work on artificial tissues offers transformative opportunities to revolutionize drug development\, personalized therapies\, and predictive disease detection.   \nSecure your spot by registering today and learn about changing the boundaries of possibility in healthcare innovation.  \n*NEW INITIATIVE* \nBy registering for the Skule Lunch & Learn event\, you can earn Continuing Professional Development (CPD) credits. CPD is essential for professional engineers and limited licence holders to renew their licenses annually. \nTo determine if this Skule Lunch & Learn presentation can be counted towards your CPD hours\, please consider the following criteria from PEO & PEAK Program: \n\nContribute to enhancing or maintaining the practitioner’s engineering competence\,\nFeature engineering learning content relevant to their practice area\nProvide technical or regulatory knowledge pertaining to professional engineering acts\,\nNot count as their professional practice hours or acts of professional engineering.\n\n			\n						Click Here to Register
URL:https://bme.utoronto.ca/event/skule-lunch-learn-artificial-tissues-for-personalized-medicine-a-powerful-tool-for-healthcare-and-drug-development/
LOCATION:Virtual – ONLINE
CATEGORIES:Skule Lunch & Learn
ATTACH;FMTTYPE=image/jpeg:https://bme.utoronto.ca/wp-content/uploads/2023/10/thumbnail_Alison-McGuigan-credit-Neil-Ta-7uMtrQ.tmp_.jpg
ORGANIZER;CN="Sierra LoMonaco":MAILTO:sierra.lomonaco@utoronto.ca
END:VEVENT
BEGIN:VEVENT
DTSTART;TZID=America/Toronto:20231114T120000
DTEND;TZID=America/Toronto:20231114T130000
DTSTAMP:20260419T164905
CREATED:20230804T153017Z
LAST-MODIFIED:20231017T124044Z
UID:42118-1699963200-1699966800@bme.utoronto.ca
SUMMARY:Symmetry breaking and self-organization in living cells – Alexander Dunn
DESCRIPTION:Speaker\nAlexander Dunn\nAssociate Professor\nDepartment of Chemical Engineering\nStanford University \n\nAbstract\nLiving cells are the quintessential smart materials\, whose ability to move\, change shape\, and assemble into complex\, multicellular organisms ultimately stems from the molecular-scale interactions of their constituent protein components. How exactly nanoscale protein-protein interactions dictate the complex material and functional properties of cells and tissues remains incompletely understood. In this talk I will discuss how symmetry-breaking events involving cellular adhesion and cytoskeletal proteins can potentially yield long-range structural organization in muscle and other tissues. In addition\, I will describe how the machinery that powers movement in the unicellular human parasite Toxoplasma can be understood using approaches adapted from active matter theory. In combination\, these and other\, evolving projects in the laboratory point toward an emerging understanding of how different forms of molecular-scale self-organization may govern the emergence of structure and order in cells and tissues. \n\nHost\nRodrigo Fernandez-Gonzalez
URL:https://bme.utoronto.ca/event/invited-academic-seminar-series-alexander-dunn/
LOCATION:Wallberg Memorial Building\, Room 116\, 184 College St\, Toronto\, Ontario\, M5S 3E4\, Canada
CATEGORIES:BME Invited Academic Speaker Series
ATTACH;FMTTYPE=image/jpeg:https://bme.utoronto.ca/wp-content/uploads/2023/08/Alex_Dunn-2019.jpg
END:VEVENT
BEGIN:VEVENT
DTSTART;TZID=America/Toronto:20231115T110000
DTEND;TZID=America/Toronto:20231115T120000
DTSTAMP:20260419T164905
CREATED:20231101T193907Z
LAST-MODIFIED:20231101T193907Z
UID:42835-1700046000-1700049600@bme.utoronto.ca
SUMMARY:TBEP Research Seminar (Dr. Sheng Xu): Wearable ultrasound technology for monitoring deep tissues
DESCRIPTION:Dr. Sheng Xu (University of California San Diego\, Associate Professor and Jacobs Faculty Scholar) will demonstrate a soft ultrasonic technology that can noninvasively and continuously acquire dynamic information about deep tissues and central organs. He will also showcase examples of this technology’s use in recording blood pressure and flow waveforms in central vessels\, monitoring cardiac chamber activities\, and measuring core body temperatures. The soft ultrasonic technology presented represents a platform with vast potential for applications in consumer electronics\, defense medicine\, and clinical practices.
URL:https://bme.utoronto.ca/event/tbep-research-seminar-dr-sheng-xu-wearable-ultrasound-technology-for-monitoring-deep-tissues/
LOCATION:ON
CATEGORIES:External Speaker Series
ORGANIZER;CN="Translational Biology and Engineering Program (TBEP)":MAILTO:reception.tbep@utoronto.ca
END:VEVENT
BEGIN:VEVENT
DTSTART;TZID=America/Toronto:20231116T124000
DTEND;TZID=America/Toronto:20231116T125500
DTSTAMP:20260419T164905
CREATED:20230830T212256Z
LAST-MODIFIED:20231115T183739Z
UID:42357-1700138400-1700139300@bme.utoronto.ca
SUMMARY:Graduate Student Seminar Series - Hannah Van Lankveld
DESCRIPTION:Graduate Student Seminar Series\nPlease ensure you invite your Principal Investigator by adding their email via the ‘Add Guest’ button and they will also be notified of your presentation.\nLocation: WB116\nPresentation Title: Physiological Effect of Non-invasive Photobiomodulation in the Healthy Human Brain\nAbstract: Transcranial Photobiomodulation (tPBM) is the application of low levels of red or near infrared (NIR) light to stimulate neural tissues. Investigations suggest tPBM could potentially address various brain conditions\, including neurodegenerative diseases. However\, determination of the optimum set of parameters such as power density\, wavelengths and pulse frequencies would improve outcomes further. This study takes an important step to overcome this shortfall by investigating the brain response to stimulation with different power densities\, pulse frequencies and wavelengths\, mapping with BOLD fMRI.\nSupervisor Name: Dr. Jean Chen & Dr. Hai-Ling Cheng\nYear of Study: 2\nProgram of Study: PhD\nPowered by Calendly.com
URL:https://bme.utoronto.ca/event/graduate-student-seminar-series-hannah-van-lankveld/
LOCATION:WB116
CATEGORIES:Graduate Seminar Series
END:VEVENT
BEGIN:VEVENT
DTSTART;TZID=America/Toronto:20231116T130000
DTEND;TZID=America/Toronto:20231116T140000
DTSTAMP:20260419T164905
CREATED:20231108T170338Z
LAST-MODIFIED:20231108T170408Z
UID:42864-1700139600-1700143200@bme.utoronto.ca
SUMMARY:BME Faculty\, Student & Staff Townhall
DESCRIPTION:Come join us for our Town Hall meeting. Faculty\, students and staff are all invited.
URL:https://bme.utoronto.ca/event/bme-faculty-student-staff-townhall/
LOCATION:RS211\, 164 College St\, Room 211\, Rosebrugh Building\, Toronto\, Ontario\, M5S 3E2\, Canada
END:VEVENT
BEGIN:VEVENT
DTSTART;VALUE=DATE:20231121
DTEND;VALUE=DATE:20231124
DTSTAMP:20260419T164905
CREATED:20231113T142449Z
LAST-MODIFIED:20231113T142449Z
UID:42892-1700524800-1700783999@bme.utoronto.ca
SUMMARY:10th National SCI Conference
DESCRIPTION:The 10th National Spinal Cord Injury Conference is taking place on November 21-23 in Toronto. This interdisciplinary event brings together researcher\, clinicians\, and persons with lived experience to discuss novel contributions to knowledge generation\, clinical/best practice implementation\, policy change\, and technology innovation. The event is an excellent opportunity for BME students interested in exploring applications of their work in the field of spinal cord injury. https://cscira.ca/events/10th-national-sci-conference-inclusivity-and-engagement/
URL:https://bme.utoronto.ca/event/10th-national-sci-conference/
LOCATION:ON
CATEGORIES:Events & Workshops
END:VEVENT
BEGIN:VEVENT
DTSTART;TZID=America/Toronto:20231123T121000
DTEND;TZID=America/Toronto:20231123T122500
DTSTAMP:20260419T164905
CREATED:20230905T213733Z
LAST-MODIFIED:20231122T183900Z
UID:42424-1700741400-1700742300@bme.utoronto.ca
SUMMARY:Graduate Student Seminar Series - Sara Alatrash
DESCRIPTION:Graduate Student Seminar Series\nPlease ensure you invite your Principal Investigator by adding their email via the ‘Add Guest’ button and they will also be notified of your presentation.\nLocation: WB116\nPresentation Title: Irritability in Autism\nSupervisor Name: Azadeh Kushki\nYear of Study: 2\nProgram of Study: MASc\nPowered by Calendly.com
URL:https://bme.utoronto.ca/event/graduate-student-seminar-series-sara-alatrash/
LOCATION:WB116
CATEGORIES:Graduate Seminar Series
END:VEVENT
BEGIN:VEVENT
DTSTART;TZID=America/Toronto:20231123T122500
DTEND;TZID=America/Toronto:20231123T124000
DTSTAMP:20260419T164905
CREATED:20231122T183853Z
LAST-MODIFIED:20231122T183900Z
UID:42995-1700742300-1700743200@bme.utoronto.ca
SUMMARY:Graduate Student Seminar Series - Simeon Wong
DESCRIPTION:Graduate Student Seminar Series\nPlease ensure you invite your Principal Investigator by adding their email via the ‘Add Guest’ button and they will also be notified of your presentation.\nLocation: WB116\nPresentation Title: Closed-loop acoustic neuromodulation for the treatment of pediatric epilepsy\nSupervisor Name: George Ibrahim\nYear of Study: 4\nProgram of Study: PhD\nPowered by Calendly.com
URL:https://bme.utoronto.ca/event/graduate-student-seminar-series-simeon-wong-3/
LOCATION:WB116
CATEGORIES:Graduate Seminar Series
END:VEVENT
BEGIN:VEVENT
DTSTART;TZID=America/Toronto:20231123T124000
DTEND;TZID=America/Toronto:20231123T125500
DTSTAMP:20260419T164905
CREATED:20230907T215248Z
LAST-MODIFIED:20231122T183900Z
UID:42443-1700743200-1700744100@bme.utoronto.ca
SUMMARY:Graduate Student Seminar Series - Samuel Lasinski
DESCRIPTION:Graduate Student Seminar Series\nPlease ensure you invite your Principal Investigator by adding their email via the ‘Add Guest’ button and they will also be notified of your presentation.\nLocation: WB116\nPresentation Title: A Roll-to-Roll Approach for the Fabrication of Meter-Long Aligned Collagen Sheet Scaffolds\nSupervisor Name: Prof. Axel Guenther\nYear of Study: 2\nProgram of Study: MASc\nPowered by Calendly.com
URL:https://bme.utoronto.ca/event/graduate-student-seminar-series-samuel-lasinski/
LOCATION:WB116
CATEGORIES:Graduate Seminar Series
END:VEVENT
BEGIN:VEVENT
DTSTART;TZID=America/Toronto:20231127T110000
DTEND;TZID=America/Toronto:20231127T120000
DTSTAMP:20260419T164905
CREATED:20231115T131438Z
LAST-MODIFIED:20231115T131438Z
UID:42913-1701082800-1701086400@bme.utoronto.ca
SUMMARY:Targeting myeloid cells for cancer and other human diseases
DESCRIPTION:Betty Y.S. Kim\, MD\, PhD\, FRCSC\, FAANS\nProfessor\, Physician Scientist\nDepartment of Neurosurgery UT – MD Anderson Cancer Center \nPrincess Margaret Cancer Centre\,\n610 University Ave\, 6th floor\, Bob Bell Auditorium Monday\,\nNovember 27\, 2023 11:00 – 12:00 p.m. \nHost: Dr. Gang Zheng
URL:https://bme.utoronto.ca/event/targeting-myeloid-cells-for-cancer-and-other-human-diseases/
LOCATION:Princess Margaret Cancer Centre\, 610 University Ave\, 6th floor\, Bob Bell Auditorium
CATEGORIES:External Speaker Series
END:VEVENT
BEGIN:VEVENT
DTSTART;TZID=America/Toronto:20231127T140000
DTEND;TZID=America/Toronto:20231127T150000
DTSTAMP:20260419T164905
CREATED:20231109T201546Z
LAST-MODIFIED:20231109T201546Z
UID:42873-1701093600-1701097200@bme.utoronto.ca
SUMMARY:Peptide-based materials for soft tissue and organ repair
DESCRIPTION:Emilio I. Alarcóna\,b* \naUniversity of Ottawa\, Faculty of Medicine\, Department of Biochemistry\, Microbiology\, and Immunology\,. bUniversity of Ottawa Heart Institute\, Cardiac Surgery\, Ottawa\, Canada. \nAbstract \nBioinspired synthetic materials offer reliable and cost-effective access to biomaterials. However\, the use of potentially toxic chemical crosslinkers for matrix assembly added to the limitations in finely tuning their mechanical properties and post-functionalization have hindered clinical translation of those materials. In this talk\, we will present our team findings on the development of materials prepared using custom designed peptides to in situ assemble 3D matrices whose physical properties can be customized to treat skin wounds\, corneal perforations and cornea reshaping\, and to act as a delivery platform of therapeutics for treating infarcted myocardium. Our findings indicate that peptides can be effectively used as building blocks for developing biomaterials for treating damaged soft tissues\, which could reduce the burden linked to use animal derived proteins\, and further opens the door for more precise engineering of the constructs. \nMonday November 27th\, 2023 \n2-3PM \nCCBR Red Room \nHost: Milica Radisic\, m.radisic@utoronto.ca \nShort Biography: \nDr. Emilio I. Alarcón is Associate Professor\, University of Ottawa and Scientist\, University of Ottawa Heart Institute. Dr. Alarcón’s work studies the use of peptides for tissue engineering and regenerative medicine. Dr. Alarcón’s research seeks to understand how peptide structure and functions can be used to create biomaterials with augmented biological properties for tissue and organ repair. He has published +100 peer-reviewed papers\, most of which in high quality journals with broad audiences (ACS Nano\, Advanced Functional Materials\, Nature Communications\, Science). The scope and transformative potential of his research has been awarded with significant grant funding (totaling >$5M) from the largest federal agencies in Canada. He has received several awards including NanoOntario and Canadian Biomaterials Award (ECR) to name some. \nPresenting Author Details: Dr. Emilio I. Alarcón \nEmail: ealarcon@uottawa.ca \nLinkedIn: https://www.linkedin.com/in/emilio-alarcon-76668b46/ \nWebsite: https://beatsresearch.com/
URL:https://bme.utoronto.ca/event/peptide-based-materials-for-soft-tissue-and-organ-repair/
LOCATION:ON
CATEGORIES:External Speaker Series
END:VEVENT
BEGIN:VEVENT
DTSTART;TZID=America/Toronto:20231130T121000
DTEND;TZID=America/Toronto:20231130T122500
DTSTAMP:20260419T164905
CREATED:20230829T212235Z
LAST-MODIFIED:20231129T183733Z
UID:42336-1701346200-1701347100@bme.utoronto.ca
SUMMARY:Graduate Student Seminar Series - Allison Tolgyesi
DESCRIPTION:Graduate Student Seminar Series\nPlease ensure you invite your Principal Investigator by adding their email via the ‘Add Guest’ button and they will also be notified of your presentation.\nLocation: WB116\nPresentation Title: Generation of Synthetic µCT Images of Rat Lumbar Vertebral Fracture via Deep Convolutional Generative Adversarial Networks\nSupervisor Name: Cari Whyne\nYear of Study: 4\nProgram of Study: PhD\nPowered by Calendly.com
URL:https://bme.utoronto.ca/event/graduate-student-seminar-series-allison-tolgyesi/
LOCATION:WB116
CATEGORIES:Graduate Seminar Series
END:VEVENT
BEGIN:VEVENT
DTSTART;TZID=America/Toronto:20231130T122500
DTEND;TZID=America/Toronto:20231130T124000
DTSTAMP:20260419T164905
CREATED:20230829T212235Z
LAST-MODIFIED:20231129T183733Z
UID:42338-1701347100-1701348000@bme.utoronto.ca
SUMMARY:Graduate Student Seminar Series - Daniel Tovbis
DESCRIPTION:Graduate Student Seminar Series\nPlease ensure you invite your Principal Investigator by adding their email via the ‘Add Guest’ button and they will also be notified of your presentation.\nLocation: WB116\nPresentation Title: Vagus Nerve Stimulation for Gastric Neuromodulation\nSupervisor Name: Paul B. Yoo\nYear of Study: 5\nProgram of Study: PhD\nPowered by Calendly.com
URL:https://bme.utoronto.ca/event/graduate-student-seminar-series-daniel-tovbis/
LOCATION:WB116
CATEGORIES:Graduate Seminar Series
END:VEVENT
BEGIN:VEVENT
DTSTART;TZID=America/Toronto:20231130T124000
DTEND;TZID=America/Toronto:20231130T125500
DTSTAMP:20260419T164905
CREATED:20231128T183727Z
LAST-MODIFIED:20231129T183733Z
UID:43096-1701348000-1701348900@bme.utoronto.ca
SUMMARY:Graduate Student Seminar Series - Marlee Vandewouw
DESCRIPTION:Graduate Student Seminar Series\nPlease ensure you invite your Principal Investigator by adding their email via the ‘Add Guest’ button and they will also be notified of your presentation.\nLocation: WB116\nPresentation Title: Factors influencing dataset-specific developmental changes of brain structure and function in neurodivergent children\nSupervisor Name: Azadeh Kushki\nYear of Study: 4\nProgram of Study: PhD\nPowered by Calendly.com
URL:https://bme.utoronto.ca/event/graduate-student-seminar-series-marlee-vandewouw/
LOCATION:WB116
CATEGORIES:Graduate Seminar Series
END:VEVENT
BEGIN:VEVENT
DTSTART;TZID=America/Toronto:20231130T130000
DTEND;TZID=America/Toronto:20231130T190000
DTSTAMP:20260419T164905
CREATED:20231128T192243Z
LAST-MODIFIED:20231128T192243Z
UID:43101-1701349200-1701370800@bme.utoronto.ca
SUMMARY:FASE Vaccination Clinic
DESCRIPTION:
URL:https://bme.utoronto.ca/event/fase-vaccination-clinic/
LOCATION:ON
CATEGORIES:Events & Workshops
END:VEVENT
END:VCALENDAR